BEGIN:VCALENDAR
VERSION:2.0
PRODID:-//wp-events-plugin.com//7.2.3.1//EN
TZID:Europe/Paris
X-WR-TIMEZONE:Europe/Paris
BEGIN:VEVENT
UID:298@cyclosavigny91.fr
DTSTART;TZID=Europe/Paris:20240929T073000
DTEND;TZID=Europe/Paris:20240929T130000
DTSTAMP:20240912T161845Z
URL:https://www.cyclosavigny91.fr/events/virade-de-lespoir-2024/
SUMMARY:Virade de l'espoir 2024
DESCRIPTION:Lieu de départ  : COMPLEXE SPORTIF des 3 rivières 9 rue des 
 écoles 78470 St Rémi les Chevreuses\n&nbsp\;\nTrois distances  :  40 -
  79 - 109\nRendez-vous à partir de 7h30 sur place\nParticipation : 6€ a
 u profit de Vaincre la mucoviscidose. Toutes les sommes perçues seront in
 tégralement reversées à "Vaincre la mucoviscidose"\nPlus d'informations
  : ICI
CATEGORIES:Randonnées-Officielles
END:VEVENT
BEGIN:VTIMEZONE
TZID:Europe/Paris
X-LIC-LOCATION:Europe/Paris
BEGIN:DAYLIGHT
DTSTART:20240331T030000
TZOFFSETFROM:+0100
TZOFFSETTO:+0200
TZNAME:CEST
END:DAYLIGHT
END:VTIMEZONE
END:VCALENDAR