BEGIN:VCALENDAR
VERSION:2.0
PRODID:-//wp-events-plugin.com//7.2.3.1//EN
TZID:Europe/Paris
X-WR-TIMEZONE:Europe/Paris
BEGIN:VEVENT
UID:313@cyclosavigny91.fr
DTSTART;TZID=Europe/Paris:20260301T083000
DTEND;TZID=Europe/Paris:20260301T123000
DTSTAMP:20260228T145944Z
URL:https://www.cyclosavigny91.fr/events/mp02-093-0837/
SUMMARY:MP02-093-0837 ...
DESCRIPTION:Départ de tous les groupes 8h30  Mairie de Savigny sur Orge\n
 \nMP02-093-0837\nMP02-080-0686\nMP02-070-0495\nMP02-060-0492\n﻿\n&nbsp\;
 \n﻿\n﻿\n﻿
CATEGORIES:Sorties club + Divers
LOCATION:Départ des sorties club\, 48 avenue Charles-de-Gaulle\, Savigny-s
 ur-Orge\, Île-de-France\, 91600\, Palaiseau\, France
GEO:48.6796449;2.3460509
X-APPLE-STRUCTURED-LOCATION;VALUE=URI;X-ADDRESS=48 avenue Charles-de-Gaulle
 \, Savigny-sur-Orge\, Île-de-France\, 91600\, Palaiseau\, France;X-APPLE-
 RADIUS=100;X-TITLE=Départ des sorties club:geo:48.6796449,2.3460509
END:VEVENT
BEGIN:VTIMEZONE
TZID:Europe/Paris
X-LIC-LOCATION:Europe/Paris
BEGIN:STANDARD
DTSTART:20251026T020000
TZOFFSETFROM:+0200
TZOFFSETTO:+0100
TZNAME:CET
END:STANDARD
END:VTIMEZONE
END:VCALENDAR