BEGIN:VCALENDAR
VERSION:2.0
PRODID:-//wp-events-plugin.com//7.2.3.1//EN
TZID:Europe/Paris
X-WR-TIMEZONE:Europe/Paris
BEGIN:VEVENT
UID:6@cyclosavigny91.fr
DTSTART;TZID=Europe/Paris:20181028T080000
DTEND;TZID=Europe/Paris:20181028T130000
DTSTAMP:20181026T073236Z
URL:https://www.cyclosavigny91.fr/events/les-boucles-chatenaysiennes-2018/
SUMMARY:Les Boucles Chatenaysiennes 2018
DESCRIPTION:\n\nÉcole Jean Jaurès\,69 Avenue du Bois92290 CHATENAY-MALABR
 Y\n\n[gmap-embed id="8834"]\n\n\n\n\n70 - 90 - 40 km\n\nDépart sur place 
 8 h - 9 h [gmap-embed id="462"]\n\n 	\n\n\nVoir en ligne : Tous les rens
 eignements ICI
CATEGORIES:Randonnées-Officielles
LOCATION:\, \, 
X-APPLE-STRUCTURED-LOCATION;VALUE=URI;X-ADDRESS=\, ;X-APPLE-RADIUS=100;X-TI
 TLE=:geo:0,0
END:VEVENT
BEGIN:VTIMEZONE
TZID:Europe/Paris
X-LIC-LOCATION:Europe/Paris
BEGIN:STANDARD
DTSTART:20181028T020000
TZOFFSETFROM:+0200
TZOFFSETTO:+0100
TZNAME:CET
END:STANDARD
END:VTIMEZONE
END:VCALENDAR