BEGIN:VCALENDAR
VERSION:2.0
PRODID:-//wp-events-plugin.com//7.2.3.1//EN
TZID:Europe/Paris
X-WR-TIMEZONE:Europe/Paris
BEGIN:VEVENT
UID:3@cyclosavigny91.fr
DTSTART;TZID=Europe/Paris:20201004T070000
DTEND;TZID=Europe/Paris:20201004T130000
DTSTAMP:20201003T172443Z
URL:https://www.cyclosavigny91.fr/events/coteaux-et-vallees-chilly-mazarin
 /
SUMMARY:Coteaux et vallées Chilly-Mazarin - Modification des  horaires de 
 départ par rapport au programme
DESCRIPTION:Randonnée Coteaux et Vallées\n\nEdition 2020\n\nDistances 47/
 64/86 km et un parcours familiale de 20 km.\n\nTarif unique 4€\n\nDépar
 t du complexe sportif Jesse Owens de Chilly-Mazarin accueil de 07h00 à 13
 h00.\n\nHoraires pour le club :\n Départ : Modification des horaires par
  rapport au programme\nMairie                Sur place\n85-65   
  07h30                08h00\n40         07h45          
        08h30\n\nPour  télécharger les parcours ou vair plus d'infor
 mations :\n\nFichiers compressés : GPX 65 - 85 km\n\nLe site du VCBS\n\n&
 nbsp\;
ATTACH;FMTTYPE=image/jpeg:https://www.cyclosavigny91.fr/wp-content/uploads
 /2018/09/Annotation-2019-09-30-100349.jpg
CATEGORIES:Randonnées-Officielles
LOCATION:stade Jesse Owens\, rue de l'Europe\, Chilly-Mazarin\, essonne\, 9
 1380\, France
GEO:48.7077878;2.323839200000066
X-APPLE-STRUCTURED-LOCATION;VALUE=URI;X-ADDRESS=rue de l'Europe\, Chilly-Ma
 zarin\, essonne\, 91380\, France;X-APPLE-RADIUS=100;X-TITLE=stade Jesse Ow
 ens:geo:48.7077878,2.323839200000066
END:VEVENT
BEGIN:VTIMEZONE
TZID:Europe/Paris
X-LIC-LOCATION:Europe/Paris
BEGIN:DAYLIGHT
DTSTART:20200329T030000
TZOFFSETFROM:+0100
TZOFFSETTO:+0200
TZNAME:CEST
END:DAYLIGHT
END:VTIMEZONE
END:VCALENDAR